BEGIN:VCALENDAR
VERSION:2.0
PRODID:-//wp-events-plugin.com//7.2.3.1//EN
TZID:America/Denver
X-WR-TIMEZONE:America/Denver
BEGIN:VEVENT
UID:663@krystal93.com
DTSTART;TZID=America/Denver:20230707T160000
DTEND;TZID=America/Denver:20230707T190000
DTSTAMP:20230701T181329Z
URL:https://krystal93.com/events/free-breck-airstage-mountain-dru/
SUMMARY:FREE Breck Airstage - Mountain Dru
DESCRIPTION:\n\n\n\n\nMountain Dru Bluegrass Experience\n\n\n\n\n\n\n\nBrec
 k Create is thrilled to announce the AirStage Summer Après series\, whic
 h is a collection of free community events on the Arts District Campus fea
 turing Summit County’s favorite local musicians performing on the AirSta
 ge\, a mobile stage inside the shell of an Airstream trailer. AirStage Sum
 mer Après events happen 4 p.m. - 7 p.m. every Friday\, June 23rd through
  August 18th (with the exception of July 28). Community members looking fo
 r a friendly place with great views and mountain charm can hike\, bike or 
 bus to the Ridge Street Arts Square to enjoy drafts\, crafts and live musi
 c (lineup below). Events are all-ages and family-friendly\, including well
 -behaved\, leashed dogs.\n\nBreck Create supports Krystal 93's Music at th
 e Summit initiative promoting local musicians and live local music!\n\nFor
  more information go to breckcreate.org\n\n\n\n\n\n\n\n
CATEGORIES:Breckenridge Creative Arts
END:VEVENT
BEGIN:VTIMEZONE
TZID:America/Denver
X-LIC-LOCATION:America/Denver
BEGIN:DAYLIGHT
DTSTART:20230312T030000
TZOFFSETFROM:-0700
TZOFFSETTO:-0600
TZNAME:MDT
END:DAYLIGHT
END:VTIMEZONE
END:VCALENDAR