BEGIN:VCALENDAR
VERSION:2.0
PRODID:-//wp-events-plugin.com//7.2.3.1//EN
TZID:America/Denver
X-WR-TIMEZONE:America/Denver
BEGIN:VEVENT
UID:664@krystal93.com
DTSTART;TZID=America/Denver:20230721T160000
DTEND;TZID=America/Denver:20230721T190000
DTSTAMP:20230701T181443Z
URL:https://krystal93.com/events/free-breck-airstage-shaky-hand-string-ban
 d/
SUMMARY:FREE Breck Airstage - Shaky Hand String Band
DESCRIPTION:\n\n\n\n\nShaky Hand String Band\n\n\n\n\n\n\n\nBreck Create is
  thrilled to announce the AirStage Summer Après series\, which is a coll
 ection of free community events on the Arts District Campus featuring Summ
 it County’s favorite local musicians performing on the AirStage\, a mobi
 le stage inside the shell of an Airstream trailer. AirStage Summer Après
  events happen 4 p.m. - 7 p.m. every Friday\, June 23rd through August 18t
 h (with the exception of July 28). Community members looking for a friendl
 y place with great views and mountain charm can hike\, bike or bus to the 
 Ridge Street Arts Square to enjoy drafts\, crafts and live music (lineup b
 elow). Events are all-ages and family-friendly\, including well-behaved\, 
 leashed dogs.\n\nBreck Create supports Krystal 93's Music at the Summit in
 itiative promoting local musicians and live local music!\n\nFor more infor
 mation go to breckcreate.org\n\n\n\n\n\n\n\n
CATEGORIES:Breckenridge Creative Arts
END:VEVENT
BEGIN:VTIMEZONE
TZID:America/Denver
X-LIC-LOCATION:America/Denver
BEGIN:DAYLIGHT
DTSTART:20230312T030000
TZOFFSETFROM:-0700
TZOFFSETTO:-0600
TZNAME:MDT
END:DAYLIGHT
END:VTIMEZONE
END:VCALENDAR