BEGIN:VCALENDAR
VERSION:2.0
PRODID:-//wp-events-plugin.com//7.2.3.1//EN
TZID:America/Denver
X-WR-TIMEZONE:America/Denver
BEGIN:VEVENT
UID:582@krystal93.com
DTSTART;TZID=America/Denver:20230704T160000
DTEND;TZID=America/Denver:20230704T190000
DTSTAMP:20230509T145542Z
URL:https://krystal93.com/events/free-colorado-jazz-repertory-orchestra/
SUMMARY:Free - Colorado Jazz Repertory Orchestra
DESCRIPTION:\n\nThe Town of Dillon just announced a great series of FREE co
 ncerts at the Dillon Amphitheater... On July 4 it's the Colorado Jazz Rep
 ertory Orchestra – An Evening of American Music: Jazz\, Soul and the Blu
 es with Robert Johnson (special holiday performance and 4 p.m. start time)
 . For more information go to www.dillonamphitheater.com
CATEGORIES:Dillon Amphitheater
END:VEVENT
BEGIN:VTIMEZONE
TZID:America/Denver
X-LIC-LOCATION:America/Denver
BEGIN:DAYLIGHT
DTSTART:20230312T030000
TZOFFSETFROM:-0700
TZOFFSETTO:-0600
TZNAME:MDT
END:DAYLIGHT
END:VTIMEZONE
END:VCALENDAR