BEGIN:VCALENDAR
VERSION:2.0
PRODID:-//wp-events-plugin.com//7.2.3.1//EN
TZID:America/Denver
X-WR-TIMEZONE:America/Denver
BEGIN:VEVENT
UID:583@krystal93.com
DTSTART;TZID=America/Denver:20230707T190000
DTEND;TZID=America/Denver:20230707T220000
DTSTAMP:20230509T145705Z
URL:https://krystal93.com/events/free-jenny-the-mexicats-chicos-malos/
SUMMARY:Free - Jenny & The Mexicats & Chicos Malos
DESCRIPTION:\n\nThe Town of Dillon just announced a great series of FREE co
 ncerts at the Dillon Amphitheater... On July 7  it's Jenny and the Mexic
 ats with Chicos Malos (bonus Friday night show). For more information go t
 o www.dillonamphitheater.com
CATEGORIES:Dillon Amphitheater
END:VEVENT
BEGIN:VTIMEZONE
TZID:America/Denver
X-LIC-LOCATION:America/Denver
BEGIN:DAYLIGHT
DTSTART:20230312T030000
TZOFFSETFROM:-0700
TZOFFSETTO:-0600
TZNAME:MDT
END:DAYLIGHT
END:VTIMEZONE
END:VCALENDAR