BEGIN:VCALENDAR
VERSION:2.0
PRODID:-//wp-events-plugin.com//7.2.3.1//EN
TZID:America/Denver
X-WR-TIMEZONE:America/Denver
BEGIN:VEVENT
UID:581@krystal93.com
DTSTART;TZID=America/Denver:20230628T180000
DTEND;TZID=America/Denver:20230628T210000
DTSTAMP:20230509T145408Z
URL:https://krystal93.com/events/free-nro-at-the-dillon-amp/
SUMMARY:Free - NRO at the Dillon Amp
DESCRIPTION:\n\nThe Town of Dillon just announced a great series of FREE co
 ncerts at the Dillon Amphitheater... Most shows will start at 7pm... On J
 une 28 –it's the National Repertory Orchestra (Wednesday night performan
 ce and special 6 p.m. start time). For more information go to www.dillonam
 phitheater.com
CATEGORIES:Dillon Amphitheater
END:VEVENT
BEGIN:VTIMEZONE
TZID:America/Denver
X-LIC-LOCATION:America/Denver
BEGIN:DAYLIGHT
DTSTART:20230312T030000
TZOFFSETFROM:-0700
TZOFFSETTO:-0600
TZNAME:MDT
END:DAYLIGHT
END:VTIMEZONE
END:VCALENDAR