BEGIN:VCALENDAR
VERSION:2.0
PRODID:-//wp-events-plugin.com//7.2.3.1//EN
TZID:America/Denver
X-WR-TIMEZONE:America/Denver
BEGIN:VEVENT
UID:589@krystal93.com
DTSTART;TZID=America/Denver:20230827T170000
DTEND;TZID=America/Denver:20230827T200000
DTSTAMP:20230509T150245Z
URL:https://krystal93.com/events/free-summit-musicians-relief-fund/
SUMMARY:Free - Summit Musicians Relief Fund
DESCRIPTION:\n\nThe Town of Dillon has a great series of FREE concerts at t
 he Dillon Amphitheater... August 27 - Summit Musicians Relief Fund.  For
  more information go to www.dillonamphitheater.com
CATEGORIES:Dillon Amphitheater
END:VEVENT
BEGIN:VTIMEZONE
TZID:America/Denver
X-LIC-LOCATION:America/Denver
BEGIN:DAYLIGHT
DTSTART:20230312T030000
TZOFFSETFROM:-0700
TZOFFSETTO:-0600
TZNAME:MDT
END:DAYLIGHT
END:VTIMEZONE
END:VCALENDAR