BEGIN:VCALENDAR
VERSION:2.0
PRODID:-//wp-events-plugin.com//7.2.3.1//EN
TZID:America/Denver
X-WR-TIMEZONE:America/Denver
BEGIN:VEVENT
UID:643@krystal93.com
DTSTART;TZID=America/Denver:20230731T190000
DTEND;TZID=America/Denver:20230731T210000
DTSTAMP:20230701T164826Z
URL:https://krystal93.com/events/free-the-cave-singers-w-sunday-banker/
SUMMARY:Free - The Cave Singers w/Sunday Banker
DESCRIPTION:FREE CONCERT\n\nThe Cave Singers with Sunday Banker\n\nLocation
 : Dillon Amphitheater\n\nStart time: 7pm
CATEGORIES:Dillon Amphitheater
END:VEVENT
BEGIN:VTIMEZONE
TZID:America/Denver
X-LIC-LOCATION:America/Denver
BEGIN:DAYLIGHT
DTSTART:20230312T030000
TZOFFSETFROM:-0700
TZOFFSETTO:-0600
TZNAME:MDT
END:DAYLIGHT
END:VTIMEZONE
END:VCALENDAR