BEGIN:VCALENDAR
VERSION:2.0
PRODID:-//wp-events-plugin.com//7.2.3.1//EN
TZID:America/Denver
X-WR-TIMEZONE:America/Denver
BEGIN:VEVENT
UID:1050@krystal93.com
DTSTART;TZID=America/Denver:20240711T173000
DTEND;TZID=America/Denver:20240711T200000
DTSTAMP:20240607T195853Z
URL:https://krystal93.com/events/freight-summer-concert-series-easy-honey/
SUMMARY:FREIGHT Summer Concert Series - Easy Honey
DESCRIPTION:Easy Honey was born out of the small-town innocent college days
 : the days of walking home under the starry night and springing under the 
 watchful eye of sunny graveyards\, Dairy Queens\, and neo-gothic cathedral
 s. The group has since blossomed\, infusing its singer-songwriter folk roo
 ts with an original blend of East Coast surf-rock\, catalyzed by the band
 ’s relocation to the up and coming Charleston\, SC music scene.\nEasy Ho
 ney’s witty melodies dotted with catchy hooks serve as anthems of nostal
 gia for their indie rock audience of daydreamers and nightseekers. Drawin
 g inspiration from the originality and attitude of The Kinks\, The Replace
 ments\, and Radiohead\, the band’s raucous yet sentimental live show exe
 mplifies the realness that people crave in a post covid/internet driven wo
 rld.\n\nThe band’s latest EP\, “Ooooo” landed itself on numerous pop
 ular playlists\, and follows more releases from the band under the directi
 on of producer Wolfgang Zimmerman (Band of Horses\, Susto). Co-frontmen Da
 rby McGlone (vocals\, guitar) and Selby Austin (vocals\, guitar) share wri
 ting and singing duties\, while Charlie Holt (drums\, vocals) and Webster 
 Austin (bass\, vocals) provide a rhythm section which complements the pers
 onified\, interwoven electric guitars. When not touring\, the band lives i
 n Charleston\, SC\, leading the way in the rapidly growing music scene… 
 and surfing Folly Beach when home.\n\nDoors at 5pm. Music at 5:30pm. $10 t
 ickets\, 12 and under are FREE! Email events@freightleadville.com for any 
 questions about this show.\n\nFREIGHT is a beautifully restored train depo
 t that was originally built in 1874. Along with the train depot we have a 
 courtyard with a historic band stand. With unbeatable views of Mt. Massive
  and Mt. Elbert from our courtyard you're sure to have a true mountain tow
 n experience listening to the live music featuring acts from across the US
 . Don't want your experience to end when the music stops? Book a cabin tha
 t is located on property equipped with a kitchenette and private bathroom.
CATEGORIES:Concerts,Family Event,Tickets giveaway
LOCATION:Freight\, 320 E 9th St\, Leadville\, Colorado\, 80461\, Lake Count
 y\, United States
X-APPLE-STRUCTURED-LOCATION;VALUE=URI;X-ADDRESS=320 E 9th St\, Leadville\, 
 Colorado\, 80461\, Lake County\, United States;X-APPLE-RADIUS=100;X-TITLE=
 Freight:geo:0,0
END:VEVENT
BEGIN:VTIMEZONE
TZID:America/Denver
X-LIC-LOCATION:America/Denver
BEGIN:DAYLIGHT
DTSTART:20240310T030000
TZOFFSETFROM:-0700
TZOFFSETTO:-0600
TZNAME:MDT
END:DAYLIGHT
END:VTIMEZONE
END:VCALENDAR