BEGIN:VCALENDAR
VERSION:2.0
PRODID:-//wp-events-plugin.com//7.2.3.1//EN
TZID:America/Denver
X-WR-TIMEZONE:America/Denver
BEGIN:VEVENT
UID:1051@krystal93.com
DTSTART;TZID=America/Denver:20240801T173000
DTEND;TZID=America/Denver:20240801T200000
DTSTAMP:20240607T195818Z
URL:https://krystal93.com/events/freight-summer-concert-series-high-loneso
 me/
SUMMARY:FREIGHT Summer Concert Series - High Lonesome
DESCRIPTION:Combining a pleasing mashup of mandolin\, dobro\, fiddle\, guit
 ar\, and bass\, High Lonesome\, seeks to put a new spin on good old hard-d
 riving bluegrass by way of tight harmonies\, melodic original material\, a
 nd an expansive reach that takes in music from various realms\, including 
 jazz and jam influences as well as traditional bluegrass. This year High L
 onesome was named in Denver\, Colorado Westword’s – “TEN OF THE TOP
  COLORADO BLUEGRASS BANDS” list along with their musical influences Inf
 amous Stringdusters and Hot Rize. With the momentum of Colorado Front Rang
 e sellout shows this past year\, High Lonesome will be touring the west an
 d east coasts as well as releasing their long anticipated debut album.\n\n
 “With its two-part harmonies and precise instrumental solos\, High Lones
 ome’s sound clearly owes as much to folk\, rock and blues as it does to 
 the Stanley Brothers.” – John Lehndorff\, BOULDER WEEKLY\n\nDoors at
  5pm. Music at 5:30pm. $10 tickets\, 12 and under are FREE! Email events@f
 reightleadville.com with any questions about this show.\n\nFREIGHT is a be
 autifully restored train depot that was originally built in 1874. Along wi
 th the train depot we have a courtyard with a historic band stand. With un
 beatable views of Mt. Massive and Mt. Elbert from our courtyard you're sur
 e to have a true mountain town experience listening to the live music feat
 uring acts from across the US. Don't want your experience to end when the 
 music stops? Book a cabin that is located on property equipped with a kitc
 henette and private bathroom.
CATEGORIES:Concerts,Family Event,Tickets giveaway
LOCATION:Freight\, 320 E 9th St\, Leadville\, Colorado\, 80461\, Lake Count
 y\, United States
X-APPLE-STRUCTURED-LOCATION;VALUE=URI;X-ADDRESS=320 E 9th St\, Leadville\, 
 Colorado\, 80461\, Lake County\, United States;X-APPLE-RADIUS=100;X-TITLE=
 Freight:geo:0,0
END:VEVENT
BEGIN:VTIMEZONE
TZID:America/Denver
X-LIC-LOCATION:America/Denver
BEGIN:DAYLIGHT
DTSTART:20240310T030000
TZOFFSETFROM:-0700
TZOFFSETTO:-0600
TZNAME:MDT
END:DAYLIGHT
END:VTIMEZONE
END:VCALENDAR