BEGIN:VCALENDAR
VERSION:2.0
PRODID:-//wp-events-plugin.com//7.2.3.1//EN
TZID:America/Denver
X-WR-TIMEZONE:America/Denver
BEGIN:VEVENT
UID:1049@krystal93.com
DTSTART;TZID=America/Denver:20240620T173000
DTEND;TZID=America/Denver:20240620T200000
DTSTAMP:20240607T195600Z
URL:https://krystal93.com/events/freight-summer-concert-series-shady-oaks/
SUMMARY:FREIGHT Summer Concert Series - Shady Oaks
DESCRIPTION:Shady Oaks is riff-heavy blues-rock from Denver. The band is le
 d by eclectic singer/songwriter and lead guitarist Ty Gallaway\, whose ins
 piration comes from bands such as The Black Angels\, Raconteurs\, Black Ke
 ys\, and Jack White. Gallaway brings his music to life with support from J
 onah Samp (Drums)\, Isaac Vance (Guitar/Backup Vocals)\, Hunter Bates (Bas
 s)\, and Sarah Hubbard (violin). The five-piece band brings listeners orig
 inal music that is both dreamy and psychedelic yet equally rugged. Doors a
 re at 5pm.\, music starts at 5:30pm! Tickets are $10\, and 12 and under ar
 e FREE!
CATEGORIES:Concerts,Tickets giveaway
LOCATION:Freight\, 320 E 9th St\, Leadville\, Colorado\, 80461\, Lake Count
 y\, United States
X-APPLE-STRUCTURED-LOCATION;VALUE=URI;X-ADDRESS=320 E 9th St\, Leadville\, 
 Colorado\, 80461\, Lake County\, United States;X-APPLE-RADIUS=100;X-TITLE=
 Freight:geo:0,0
END:VEVENT
BEGIN:VTIMEZONE
TZID:America/Denver
X-LIC-LOCATION:America/Denver
BEGIN:DAYLIGHT
DTSTART:20240310T030000
TZOFFSETFROM:-0700
TZOFFSETTO:-0600
TZNAME:MDT
END:DAYLIGHT
END:VTIMEZONE
END:VCALENDAR