BEGIN:VCALENDAR
VERSION:2.0
PRODID:-//wp-events-plugin.com//7.2.3.1//EN
TZID:America/Denver
X-WR-TIMEZONE:America/Denver
BEGIN:VEVENT
UID:1573@krystal93.com
DTSTART;TZID=America/Denver:20250710T173000
DTEND;TZID=America/Denver:20250710T193000
DTSTAMP:20250702T010111Z
URL:https://krystal93.com/events/frisco-concerts-in-the-park-3/
SUMMARY:Frisco Concerts in the Park - Cabbage Brass Band
DESCRIPTION:Get out and enjoy fantastic music for Frisco's Free Concerts in
  the Park. On Thursday\, July 10\, 2025 from 5:30 pm to 7:30 pm King Cabba
 ge Brass Band Concert will be playing and any drink purchases will go to h
 elp Benefit Café Food Rescue. King Cabbage Brass Band is like a jukebox o
 f funk\, soul\, jazz\, and R&amp\;B\, with a live show that transcends gen
 re boundaries and captivates the audience with sing along songs that last 
 all night. Eight performers driving the groove\, fronted by a five-piece h
 orn section\, are on a mission to spread joy wherever they go. \n\n 
END:VEVENT
BEGIN:VTIMEZONE
TZID:America/Denver
X-LIC-LOCATION:America/Denver
BEGIN:DAYLIGHT
DTSTART:20250309T030000
TZOFFSETFROM:-0700
TZOFFSETTO:-0600
TZNAME:MDT
END:DAYLIGHT
END:VTIMEZONE
END:VCALENDAR