BEGIN:VCALENDAR
VERSION:2.0
PRODID:-//wp-events-plugin.com//7.2.3.1//EN
TZID:America/Denver
X-WR-TIMEZONE:America/Denver
BEGIN:VEVENT
UID:1577@krystal93.com
DTSTART;TZID=America/Denver:20250731T173000
DTEND;TZID=America/Denver:20250731T193000
DTSTAMP:20250702T010024Z
URL:https://krystal93.com/events/frisco-concerts-in-the-park-plain-faraday
 /
SUMMARY:Frisco Concerts in the Park - Plain Faraday
DESCRIPTION:Get out and enjoy fantastic music for Frisco's Free Concerts in
  the Park. On Thursday\, July 31\, 2025 from 5:30 pm to 7:30 pm Plain Fara
 day will be playing. Any drink purchases will go to help Colorado Learning
  Connections. Plain Faraday is an independent music project from Denver\, 
 Colorado. Their unique sound pulls from a variety of genres\, including in
 fluences from folk\, indie-rock\, Americana\, jazz\, and neo-soul. The gro
 up’s quest for meaningful lyrics and dynamic compositions are guided by 
 a respect for wood and steel and times past and present. Over the years\, 
 Plain Faraday has shared stages with prominent artists like Richy Mitch &a
 mp\; The Coal Miners\, Proxima Parada\, Moon Taxi\, Trash Panda\, Happy La
 nding\, Emily Brimlow\, Susto\, Dustbowl Revival\, and others. They’re k
 nown for their energetic stage performance and engaging sound.\n\n&nbsp\;
END:VEVENT
BEGIN:VTIMEZONE
TZID:America/Denver
X-LIC-LOCATION:America/Denver
BEGIN:DAYLIGHT
DTSTART:20250309T030000
TZOFFSETFROM:-0700
TZOFFSETTO:-0600
TZNAME:MDT
END:DAYLIGHT
END:VTIMEZONE
END:VCALENDAR