BEGIN:VCALENDAR
VERSION:2.0
PRODID:-//wp-events-plugin.com//7.2.3.1//EN
TZID:America/Denver
X-WR-TIMEZONE:America/Denver
BEGIN:VEVENT
UID:1575@krystal93.com
DTSTART;TZID=America/Denver:20250724T173000
DTEND;TZID=America/Denver:20250724T193000
DTSTAMP:20250702T010202Z
URL:https://krystal93.com/events/frisco-concerts-in-the-park-titonic-2/
SUMMARY:Frisco Concerts in the Park - Jubilingo
DESCRIPTION:Get out and enjoy fantastic music for Frisco's Free Concerts in
  the Park. On Thursday\, July 17\, 2025 from 5:30 pm to 7:30 pm Jubilingo 
 will be playing. Any drink purchases will go to help Summit 50 Plus. For t
 he past 10 years Jubilingo has been cutting their teeth playing in Denver 
 and the surrounding mountain towns while serving up tasty sets filled with
  heartfelt vocals\, searing guitar riffs\, and heavy grooves. Jubilingo me
 lds the heart of southern soul with the free-spirited sensibilities of Col
 orado’s jam-rock scene and has crafted a unique sound that is best descr
 ibed as a crispy-fried\, soulful\, and funky blend of sonic ingredients th
 at will lift your spirits and move your bones!\n\n&nbsp\;
END:VEVENT
BEGIN:VTIMEZONE
TZID:America/Denver
X-LIC-LOCATION:America/Denver
BEGIN:DAYLIGHT
DTSTART:20250309T030000
TZOFFSETFROM:-0700
TZOFFSETTO:-0600
TZNAME:MDT
END:DAYLIGHT
END:VTIMEZONE
END:VCALENDAR