BEGIN:VCALENDAR
VERSION:2.0
PRODID:-//wp-events-plugin.com//7.2.3.1//EN
TZID:America/Denver
X-WR-TIMEZONE:America/Denver
BEGIN:VEVENT
UID:1574@krystal93.com
DTSTART;TZID=America/Denver:20250717T173000
DTEND;TZID=America/Denver:20250717T193000
DTSTAMP:20250702T005738Z
URL:https://krystal93.com/events/frisco-concerts-in-the-park-titonic/
SUMMARY:Frisco Concerts in the Park -TITONIC
DESCRIPTION:Get out and enjoy fantastic music for Frisco's Free Concerts in
  the Park. On Thursday\, July 17\, 2025 from 5:30 pm to 7:30 pm TItonic wi
 ll be playing. Any drink purchases will go to help the Blue River Watershe
 d Group. Discover the electrifying sound of Titonic\, an eight-piece funk\
 , soul\, and R&amp\;B powerhouse band hailing from Fort Collins\, Colorado
 . Led by the dynamic vocals of Monique Ford\, Titonic channels the soulful
  spirit of icons like Stevie Wonder and Aretha Franklin\, infusing classic
 s from Tower of Power\, Steely Dan\, and The Doobie Brothers with their ow
 n vibrant energy. Since their inception in March 2019\, Titonic has captiv
 ated audiences with their infectious rhythms and sizzling horn section. As
  they continue to set stages ablaze in 2025\, don’t miss your chance to 
 groove along to their irresistible tunes.\n\n&nbsp\;
END:VEVENT
BEGIN:VTIMEZONE
TZID:America/Denver
X-LIC-LOCATION:America/Denver
BEGIN:DAYLIGHT
DTSTART:20250309T030000
TZOFFSETFROM:-0700
TZOFFSETTO:-0600
TZNAME:MDT
END:DAYLIGHT
END:VTIMEZONE
END:VCALENDAR