BEGIN:VCALENDAR
VERSION:2.0
PRODID:-//wp-events-plugin.com//7.2.3.1//EN
TZID:America/Denver
X-WR-TIMEZONE:America/Denver
BEGIN:VEVENT
UID:1570@krystal93.com
DTSTART;TZID=America/Denver:20250703T163000
DTEND;TZID=America/Denver:20250704T190000
DTSTAMP:20250702T010046Z
URL:https://krystal93.com/events/frisco-concerts-in-the-park/
SUMMARY:Frisco Concerts in the Park - Magic Beans\, Orgone
DESCRIPTION:Get out and enjoy fantastic music for the 4th of July week in F
 risco! On Thursday July 3\, Magic Beans is playing on the big stage at Mai
 n Street and First Avenue at 5:30. Then on Friday July 4 at 4:30 Orgone  
 is playing... and it’s all free! Krystal Media Supports the Summit.  \
 n\n 
END:VEVENT
BEGIN:VTIMEZONE
TZID:America/Denver
X-LIC-LOCATION:America/Denver
BEGIN:DAYLIGHT
DTSTART:20250309T030000
TZOFFSETFROM:-0700
TZOFFSETTO:-0600
TZNAME:MDT
END:DAYLIGHT
END:VTIMEZONE
END:VCALENDAR