BEGIN:VCALENDAR
VERSION:2.0
PRODID:-//wp-events-plugin.com//7.2.3.1//EN
TZID:America/Denver
X-WR-TIMEZONE:America/Denver
BEGIN:VEVENT
UID:652@krystal93.com
DTSTART;TZID=America/Denver:20230831T173000
DTEND;TZID=America/Denver:20230831T193000
DTSTAMP:20230701T171142Z
URL:https://krystal93.com/events/frisco-free-concert-babaux-the-peacemaker
 s/
SUMMARY:FRISCO FREE CONCERT- Babaux & The Peacemakers
DESCRIPTION:August 31\, 2023\n\n5:30-7:30pm\n\nBabaux and The Peacemakers\n
 \nConcert to Benefit Smart Bellies\n\nBabaux and The Peacemakers is a Colo
 rado-based roots-rock quartet\, led by Cristian Basso. Embracing an array 
 of moods and styles from jam band-rootsy to swampy bayou blues and acousti
 c funk\, each song is like a new chapter in the root’s music playbook.\n
 \nFree Concert series every Thursday at Frisco’s Historic Park\n\nEach
  weekly concert supports a different\, local beneficiary.
END:VEVENT
BEGIN:VTIMEZONE
TZID:America/Denver
X-LIC-LOCATION:America/Denver
BEGIN:DAYLIGHT
DTSTART:20230312T030000
TZOFFSETFROM:-0700
TZOFFSETTO:-0600
TZNAME:MDT
END:DAYLIGHT
END:VTIMEZONE
END:VCALENDAR