BEGIN:VCALENDAR
VERSION:2.0
PRODID:-//wp-events-plugin.com//7.2.3.1//EN
TZID:America/Denver
X-WR-TIMEZONE:America/Denver
BEGIN:VEVENT
UID:644@krystal93.com
DTSTART;TZID=America/Denver:20230706T173000
DTEND;TZID=America/Denver:20230706T193000
DTSTAMP:20230701T165958Z
URL:https://krystal93.com/events/frisco-free-concert-eyes-wide-open/
SUMMARY:FRISCO FREE CONCERT- Eyes Wide Open
DESCRIPTION:July 6\, 2023\n\n5:30-7:30pm\n\nEyes Wide Open\n\nConcert to Be
 nefit Summit County Preschool\n\nBased in Dillon\, Colorado\, Eyes Wide Op
 en has performed together for over 12 years. With powerful female lead voc
 als\, the band performs covers of rock and alternative favorites.\n\nFree
  Concert series every Thursday at Frisco’s Historic Park\n\nEach weekl
 y concert supports a different\, local beneficiary.
END:VEVENT
BEGIN:VTIMEZONE
TZID:America/Denver
X-LIC-LOCATION:America/Denver
BEGIN:DAYLIGHT
DTSTART:20230312T030000
TZOFFSETFROM:-0700
TZOFFSETTO:-0600
TZNAME:MDT
END:DAYLIGHT
END:VTIMEZONE
END:VCALENDAR