BEGIN:VCALENDAR
VERSION:2.0
PRODID:-//wp-events-plugin.com//7.2.3.1//EN
TZID:America/Denver
X-WR-TIMEZONE:America/Denver
BEGIN:VEVENT
UID:645@krystal93.com
DTSTART;TZID=America/Denver:20230713T173000
DTEND;TZID=America/Denver:20230713T193000
DTSTAMP:20230701T170208Z
URL:https://krystal93.com/events/frisco-free-concert-frank-solivan-dirty-k
 itchen/
SUMMARY:FRISCO FREE CONCERT- Frank Solivan & Dirty Kitchen
DESCRIPTION:July 13\, 2023\n\n5:30-7:30pm\n\nFrank Solivan and Dirty Kitche
 n\n\nConcert to Benefit League for Animals and People of the Summit\n\nMul
 ti-Grammy nominated Frank Solivan and Dirty Kitchen is a torrent of mind-b
 lowing bluegrass. Known for their meaty pile-driving rhythms and Frank’s
  dynamic and bold vocals\, the band’s last two albums have both received
  a Grammy nomination for Best Bluegrass Album. Twice\, they have been name
 d IBMA Instrumental Group of the Year and earned numerous other IBMA nomin
 ations\, including Male Vocalist of the Year\, Mandolin Player of the Year
 \, and in 2013\, received Banjo Player of the Year.\n\nFree Concert serie
 s every Thursday at Frisco’s Historic Park\n\nEach weekly concert suppo
 rts a different\, local beneficiary.
END:VEVENT
BEGIN:VTIMEZONE
TZID:America/Denver
X-LIC-LOCATION:America/Denver
BEGIN:DAYLIGHT
DTSTART:20230312T030000
TZOFFSETFROM:-0700
TZOFFSETTO:-0600
TZNAME:MDT
END:DAYLIGHT
END:VTIMEZONE
END:VCALENDAR