BEGIN:VCALENDAR
VERSION:2.0
PRODID:-//wp-events-plugin.com//7.2.3.1//EN
TZID:America/Denver
X-WR-TIMEZONE:America/Denver
BEGIN:VEVENT
UID:1681@krystal93.com
DTSTART;TZID=America/Denver:20250807T173000
DTEND;TZID=America/Denver:20250807T193000
DTSTAMP:20250804T202856Z
URL:https://krystal93.com/events/frisco-free-concert-in-the-park/
SUMMARY:Frisco Free Concert in the Park
DESCRIPTION:Enjoy Frisco’s Free Concert in the Park with Joslyn and the S
 weet Compression Thursday\, August 7 from 5:30 to 7:30pm at the Frisco Hi
 storic Park Gazebo. Enjoy a great soul funk sound with your neighbors. Bev
 erage purchases will contribute to Summit County Preschool. 
END:VEVENT
BEGIN:VTIMEZONE
TZID:America/Denver
X-LIC-LOCATION:America/Denver
BEGIN:DAYLIGHT
DTSTART:20250309T030000
TZOFFSETFROM:-0700
TZOFFSETTO:-0600
TZNAME:MDT
END:DAYLIGHT
END:VTIMEZONE
END:VCALENDAR