BEGIN:VCALENDAR
VERSION:2.0
PRODID:-//wp-events-plugin.com//7.2.3.1//EN
TZID:America/Denver
X-WR-TIMEZONE:America/Denver
BEGIN:VEVENT
UID:650@krystal93.com
DTSTART;TZID=America/Denver:20230817T173000
DTEND;TZID=America/Denver:20230817T193000
DTSTAMP:20230701T170933Z
URL:https://krystal93.com/events/frisco-free-concert-jubilingo/
SUMMARY:FRISCO FREE CONCERT- Jubilingo
DESCRIPTION:August 17\, 2023\n\n5:30-7:30pm\n\nJubilingo\n\nConcert to Bene
 fit Colorado Learning Connections\n\nFormed in 2015\, Jubilingo has grown 
 to be one of Denver's best regarded rock bands. Combining elements from so
 uthern soul with Colorado jam-rock\, Jubilingo has created a unique sound.
  Lead by female vocalist Jessica Holloway\, this tight-knit quartet is sur
 e to lift your spirits and get you moving on the dance floor through groov
 y baselines\, robust vocals\, and high-spirited guitar.\n\nFree Concert s
 eries every Thursday at Frisco’s Historic Park\n\nEach weekly concert s
 upports a different\, local beneficiary.
END:VEVENT
BEGIN:VTIMEZONE
TZID:America/Denver
X-LIC-LOCATION:America/Denver
BEGIN:DAYLIGHT
DTSTART:20230312T030000
TZOFFSETFROM:-0700
TZOFFSETTO:-0600
TZNAME:MDT
END:DAYLIGHT
END:VTIMEZONE
END:VCALENDAR