BEGIN:VCALENDAR
VERSION:2.0
PRODID:-//wp-events-plugin.com//7.2.3.1//EN
TZID:America/Denver
X-WR-TIMEZONE:America/Denver
BEGIN:VEVENT
UID:651@krystal93.com
DTSTART;TZID=America/Denver:20230824T173000
DTEND;TZID=America/Denver:20230824T193000
DTSTAMP:20230701T171039Z
URL:https://krystal93.com/events/frisco-free-concert-tenth-mountain-divisi
 on/
SUMMARY:FRISCO FREE CONCERT- Tenth Mountain Division
DESCRIPTION:August 24\, 2023\n\n5:30-7:30pm\n\nTenth Mountain Division\n\nC
 oncert to Benefit Women of the Summit\n\nNew on the music scene\, Tenth Mo
 untain Division pays tribute to their forefathers in Colorado. Like those 
 that came before\, Tenth Mountain Division is pushing their ski-party soun
 d into bold\, new directions with their exploratory take on Americana that
  dips into all their influences from classic southern rock to progressive 
 bluegrass\, psychedelic blues\, and rock ‘n’ roll.\n\nFree Concert se
 ries every Thursday at Frisco’s Historic Park\n\nEach weekly concert su
 pports a different\, local beneficiary.
END:VEVENT
BEGIN:VTIMEZONE
TZID:America/Denver
X-LIC-LOCATION:America/Denver
BEGIN:DAYLIGHT
DTSTART:20230312T030000
TZOFFSETFROM:-0700
TZOFFSETTO:-0600
TZNAME:MDT
END:DAYLIGHT
END:VTIMEZONE
END:VCALENDAR