BEGIN:VCALENDAR
VERSION:2.0
PRODID:-//wp-events-plugin.com//7.2.3.1//EN
TZID:America/Denver
X-WR-TIMEZONE:America/Denver
BEGIN:VEVENT
UID:649@krystal93.com
DTSTART;TZID=America/Denver:20230810T173000
DTEND;TZID=America/Denver:20230810T193000
DTSTAMP:20230701T170855Z
URL:https://krystal93.com/events/frisco-free-concert-the-barlow/
SUMMARY:FRISCO FREE CONCERT- The Barlow
DESCRIPTION:August 10\, 2023\n\n5:30-7:30pm\n\nThe Barlow\n\nConcert to Ben
 efit Mountain Dreamers\n\nIf you’ve heard of Texas country and Oklahoma 
 red dirt\, then there’s no doubt that you’re also familiar with outlaw
  country and southern rock. Now take all those Americana music styles and 
 change the scenery. How about Colorado? That’s exactly where you’ll fi
 nd The Barlow\, a rugged\, four-piece band brewing its own mountain-high v
 ersion of Colorado country.\n\nFree Concert series every Thursday at Fri
 sco’s Historic Park\n\nEach weekly concert supports a different\, local 
 beneficiary.
END:VEVENT
BEGIN:VTIMEZONE
TZID:America/Denver
X-LIC-LOCATION:America/Denver
BEGIN:DAYLIGHT
DTSTART:20230312T030000
TZOFFSETFROM:-0700
TZOFFSETTO:-0600
TZNAME:MDT
END:DAYLIGHT
END:VTIMEZONE
END:VCALENDAR