BEGIN:VCALENDAR
VERSION:2.0
PRODID:-//wp-events-plugin.com//7.2.3.1//EN
TZID:America/Denver
X-WR-TIMEZONE:America/Denver
BEGIN:VEVENT
UID:666@krystal93.com
DTSTART;TZID=America/Denver:20230803T173000
DTEND;TZID=America/Denver:20230803T193000
DTSTAMP:20230730T231119Z
URL:https://krystal93.com/events/frisco-free-concerts-in-the-park/
SUMMARY:Frisco Free Concerts in the Park
DESCRIPTION:Frisco Free Concerts in the Park Series \n\nWho: Lola Rising 
 \n\nWhere: Frisco Historic Park \n\nWhen: Thursday\, August 3\, from 5:30
  to 7:30pm \n\nDetails: Hailing from Colorado\, Lola Rising is a six-piec
 e island folk rock band also known as “Jahawaiian” that is ukulele dri
 ven with high energy melodic dance rhythms and soaring guitars. Come enjoy
  the music at Frisco Historic Park Thursday. 
END:VEVENT
BEGIN:VTIMEZONE
TZID:America/Denver
X-LIC-LOCATION:America/Denver
BEGIN:DAYLIGHT
DTSTART:20230312T030000
TZOFFSETFROM:-0700
TZOFFSETTO:-0600
TZNAME:MDT
END:DAYLIGHT
END:VTIMEZONE
END:VCALENDAR