BEGIN:VCALENDAR
VERSION:2.0
PRODID:-//wp-events-plugin.com//7.2.3.1//EN
TZID:America/Denver
X-WR-TIMEZONE:America/Denver
BEGIN:VEVENT
UID:524@krystal93.com
DTSTART;TZID=America/Denver:20230401T150000
DTEND;TZID=America/Denver:20230401T180000
DTSTAMP:20230330T154632Z
URL:https://krystal93.com/events/funky-on-the-first-warren-station/
SUMMARY:Funky on the First - Warren Station
DESCRIPTION:What: Funky on the First – April 1st celebration \n\nWhere: 
 Warren Station \n\nWhen: April 1st of course\, 3pm to 6pm \n\nDetails: D
 ress up in your coolest 90’s outfits to blow out the 2022-2023 ski seaso
 n at Keystone. Listen to great music from The Loser’s club performing a 
 Blink 182 tribute set and strut your 90s fashions and dance moves on the r
 unway. There’ll be a raffle at the end of the evening for a grand prize.
  Go to warrenstation.com for ticket information and more details. Krystal 
 Media Supports the Summit. 
END:VEVENT
BEGIN:VTIMEZONE
TZID:America/Denver
X-LIC-LOCATION:America/Denver
BEGIN:DAYLIGHT
DTSTART:20230312T030000
TZOFFSETFROM:-0700
TZOFFSETTO:-0600
TZNAME:MDT
END:DAYLIGHT
END:VTIMEZONE
END:VCALENDAR