BEGIN:VCALENDAR
VERSION:2.0
PRODID:-//wp-events-plugin.com//7.2.3.1//EN
TZID:America/Denver
X-WR-TIMEZONE:America/Denver
BEGIN:VEVENT
UID:632@krystal93.com
DTSTART;TZID=America/Denver:20230713T090000
DTEND;TZID=America/Denver:20230713T110000
DTSTAMP:20230701T151403Z
URL:https://krystal93.com/events/group-ride-go-4-graham/
SUMMARY:Group Ride-Go 4 Graham
DESCRIPTION:\n\n\n\n\n\n\n\n\n\n\n\n\nGROUP RIDE WITH GO 4 GRAHAM\n\nRide 
 some single track\, connect with a like-minded community and have a conver
 sation about mental health. Come peddle with Building Hope and Go 4 Graham
 ! Participation limited to age 18+. Facilitated in English.\n\nTime: 9-11a
 m\n\nLocation: Breckenridge\n\n\n\n\n\n\n\n\n\n\n\n\n\nGo to Building Hope
  Summit County for more information.  
CATEGORIES:Building Hope Summit County
END:VEVENT
BEGIN:VTIMEZONE
TZID:America/Denver
X-LIC-LOCATION:America/Denver
BEGIN:DAYLIGHT
DTSTART:20230312T030000
TZOFFSETFROM:-0700
TZOFFSETTO:-0600
TZNAME:MDT
END:DAYLIGHT
END:VTIMEZONE
END:VCALENDAR