BEGIN:VCALENDAR
VERSION:2.0
PRODID:-//wp-events-plugin.com//7.2.3.1//EN
TZID:America/Denver
X-WR-TIMEZONE:America/Denver
BEGIN:VEVENT
UID:440@krystal93.com
DTSTART;TZID=America/Denver:20230220T130000
DTEND;TZID=America/Denver:20230220T150000
DTSTAMP:20230131T192242Z
URL:https://krystal93.com/events/guided-snowshoe-3/
SUMMARY:Guided Snowshoe
DESCRIPTION:GUIDED MINDFULNESS SNOWSHOE Enjoy the beauty of Summit County a
 nd immerse yourself in the healing powers of nature on this winter adventu
 re. We will pause along the way to reflect\, connect and create meaningful
  conversations centered in mental health and well being. Event Facilitated
  in English. \n\nFeb 20 Time: 1-3pm Location: Breckenridge  \n\n Go to h
 ttps://buildinghopesummit.org/ for details. \n\n&nbsp\;
CATEGORIES:Building Hope Summit County
END:VEVENT
BEGIN:VTIMEZONE
TZID:America/Denver
X-LIC-LOCATION:America/Denver
BEGIN:STANDARD
DTSTART:20221106T010000
TZOFFSETFROM:-0600
TZOFFSETTO:-0700
TZNAME:MST
END:STANDARD
END:VTIMEZONE
END:VCALENDAR