BEGIN:VCALENDAR
VERSION:2.0
PRODID:-//wp-events-plugin.com//7.2.3.1//EN
TZID:America/Denver
X-WR-TIMEZONE:America/Denver
BEGIN:VEVENT
UID:1464@krystal93.com
DTSTART;TZID=America/Denver:20250405T000000
DTEND;TZID=America/Denver:20250405T000000
DTSTAMP:20250501T231421Z
URL:https://krystal93.com/events/hands-off-summit-county-fights-back-rally
 /
SUMMARY:Hands Off! Summit County Fights Back Rally
DESCRIPTION:\nAbout this event\n\n\n\n\n\n\n\n\nDonald Trump and Elon Musk 
 think this country belongs to them. We are fighting back!\n\nThey're taki
 ng everything they can get their hands on—our health care\, our data\, o
 ur jobs\, our services—and daring the world to stop them. This is a cris
 is\, and the time to act is now.\n\n🚨 On Saturday\, April 5th\, we're 
 taking to the streets to fight back with a clear message: Hands off! 🚨
 \n\nThis mass mobilization day is our message to the world that we do not 
 consent to the destruction of our government and our economy for the benef
 it of Trump and his billionaire allies. Alongside Americans across the cou
 ntry\, we are marching\, rallying\, and protesting to demand a stop the ch
 aos and build an opposition movement against the looting of our country.\n
 \nA core principle behind all Hands Off! events is a commitment to nonviol
 ent action. We expect all participants to seek to de-escalate any potentia
 l confrontation with those who disagree with our values.\n\nCheck out hand
 soff2025.com for more information.\n\n\n\n\n\n
LOCATION:Triangle Park\, Frisco\, CO\, Frisco Main Street &amp\; Highway 9\
 , Frisco\, CO\, 80443\, United States
X-APPLE-STRUCTURED-LOCATION;VALUE=URI;X-ADDRESS=Frisco Main Street & Highwa
 y 9\, Frisco\, CO\, 80443\, United States;X-APPLE-RADIUS=100;X-TITLE=Trian
 gle Park\, Frisco\, CO:geo:0,0
END:VEVENT
BEGIN:VTIMEZONE
TZID:America/Denver
X-LIC-LOCATION:America/Denver
BEGIN:DAYLIGHT
DTSTART:20250309T030000
TZOFFSETFROM:-0700
TZOFFSETTO:-0600
TZNAME:MDT
END:DAYLIGHT
END:VTIMEZONE
END:VCALENDAR