BEGIN:VCALENDAR
VERSION:2.0
PRODID:-//wp-events-plugin.com//7.2.3.1//EN
TZID:America/Denver
X-WR-TIMEZONE:America/Denver
BEGIN:VEVENT
UID:593@krystal93.com
DTSTART;TZID=America/Denver:20230520T163000
DTEND;TZID=America/Denver:20230520T220000
DTSTAMP:20230516T144511Z
URL:https://krystal93.com/events/highside-5-year-anniversary/
SUMMARY:Highside 5 Year Anniversary
DESCRIPTION:Highside Brewing in Frisco is celebrating a big anniversary …
  they’ve been serving up great brews for 5 years…. And they’re celeb
 rating on Saturday\, May 20th at their Frisco Brewery location with live m
 usic starting at 4:30pm... High Country Salmon hits the stage at 8pm with 
 Drew Emmitt and Andy Thorn of LEFTOVER SALMON!  
CATEGORIES:Highside Brewing
END:VEVENT
BEGIN:VTIMEZONE
TZID:America/Denver
X-LIC-LOCATION:America/Denver
BEGIN:DAYLIGHT
DTSTART:20230312T030000
TZOFFSETFROM:-0700
TZOFFSETTO:-0600
TZNAME:MDT
END:DAYLIGHT
END:VTIMEZONE
END:VCALENDAR