BEGIN:VCALENDAR
VERSION:2.0
PRODID:-//wp-events-plugin.com//7.2.3.1//EN
TZID:America/Denver
X-WR-TIMEZONE:America/Denver
BEGIN:VEVENT
UID:973@krystal93.com
DTSTART;TZID=America/Denver:20240504T173000
DTEND;TZID=America/Denver:20240504T220000
DTSTAMP:20240501T180252Z
URL:https://krystal93.com/events/highside-brewing-anniversary/
SUMMARY:Highside Brewing Anniversary
DESCRIPTION:Highside Brewing in Frisco invites you to their 6th Anniversary
  Bash on Saturday May 4 – a free show with Tim Carbone from Railroad Ear
 th\, and Tyler Grant from Grant Farm and others\, playing as “The High C
 ountry Angels” Music starts at 5:30\, headliner at 7: 30....beer\, BBQ a
 nd free superstar live music…Saturday May 4 Highside Brewing Frisco.
END:VEVENT
BEGIN:VTIMEZONE
TZID:America/Denver
X-LIC-LOCATION:America/Denver
BEGIN:DAYLIGHT
DTSTART:20240310T030000
TZOFFSETFROM:-0700
TZOFFSETTO:-0600
TZNAME:MDT
END:DAYLIGHT
END:VTIMEZONE
END:VCALENDAR