BEGIN:VCALENDAR
VERSION:2.0
PRODID:-//wp-events-plugin.com//7.2.3.1//EN
TZID:America/Denver
X-WR-TIMEZONE:America/Denver
BEGIN:VEVENT
UID:399@krystal93.com
DTSTART;TZID=America/Denver:20230126T190000
DTEND;TZID=America/Denver:20230126T210000
DTSTAMP:20230102T041536Z
URL:https://krystal93.com/events/highside-brewing-beau-thomas-5/
SUMMARY:Highside Brewing - Beau Thomas
DESCRIPTION:HIGHSIDE BREWING IN FRISCO  \n\nWHAT: LIVE MUSIC WITH BEAU TH
 OMAS (Acoustic) \n\nWHEN: THURSDAYS 7-9pm \n\nWHERE: Highside Brewing in
  FRISCO \n\nDetails: Highside Brewing supports Music at the Summit – ou
 r initiative to promote live local music – brought to you by Mountain Co
 mfort Furnishings. 
CATEGORIES:Highside Brewing
END:VEVENT
BEGIN:VTIMEZONE
TZID:America/Denver
X-LIC-LOCATION:America/Denver
BEGIN:STANDARD
DTSTART:20221106T010000
TZOFFSETFROM:-0600
TZOFFSETTO:-0700
TZNAME:MST
END:STANDARD
END:VTIMEZONE
END:VCALENDAR