BEGIN:VCALENDAR
VERSION:2.0
PRODID:-//wp-events-plugin.com//7.2.3.1//EN
TZID:America/Denver
X-WR-TIMEZONE:America/Denver
BEGIN:VEVENT
UID:1083@krystal93.com
DTSTART;TZID=America/Denver:20240726T180000
DTEND;TZID=America/Denver:20240726T210000
DTSTAMP:20240701T141350Z
URL:https://krystal93.com/events/highside-brewing-live-music-17/
SUMMARY:Highside Brewing LIVE MUSIC
DESCRIPTION:Highside Brewing  \n\nFriday: Chief Complaint starts at 6pm i
 n BRECK \n\nFriday: John Truscelli starts at 7pm in FRISCO\n\nHighside Br
 ewing is a sponsor of Krystal Media’s Music at the Summit\, our initiati
 ve to promote local musicians in Summit County. \n\n&nbsp\;
CATEGORIES:Highside Brewing
END:VEVENT
BEGIN:VTIMEZONE
TZID:America/Denver
X-LIC-LOCATION:America/Denver
BEGIN:DAYLIGHT
DTSTART:20240310T030000
TZOFFSETFROM:-0700
TZOFFSETTO:-0600
TZNAME:MDT
END:DAYLIGHT
END:VTIMEZONE
END:VCALENDAR