BEGIN:VCALENDAR
VERSION:2.0
PRODID:-//wp-events-plugin.com//7.2.3.1//EN
TZID:America/Denver
X-WR-TIMEZONE:America/Denver
BEGIN:VEVENT
UID:1207@krystal93.com
DTSTART;TZID=America/Denver:20241011T180000
DTEND;TZID=America/Denver:20241011T210000
DTSTAMP:20240930T214915Z
URL:https://krystal93.com/events/highside-brewing-live-music-46/
SUMMARY:Highside Brewing Live Music
DESCRIPTION:Highside Brewing\n\nTuesdays: Bluegrass Tuesdays lead by Local 
 Folk 6pm in Frisco\n\nTuesdays: Trivia with Brett and Ward 6pm in Breckenr
 idge\n\nWednesdays:  Mountain Dru’s Bluegrass is 4-6pm in Breckenridge\
 n\nThursdays: Beau Thomas  7-9pm in Frisco\n\nFriday: Chief Complaint sta
 rts at 6pm in Breckenridge\nFriday: John Truscelli starts at 7pm in Frisco
  \n\nHighside Brewing is a sponsor of Krystal Media’s Music at the Summ
 it\, our initiative to promote local musicians in Summit County.  
CATEGORIES:Highside Brewing
END:VEVENT
BEGIN:VTIMEZONE
TZID:America/Denver
X-LIC-LOCATION:America/Denver
BEGIN:DAYLIGHT
DTSTART:20240310T030000
TZOFFSETFROM:-0700
TZOFFSETTO:-0600
TZNAME:MDT
END:DAYLIGHT
END:VTIMEZONE
END:VCALENDAR