BEGIN:VCALENDAR
VERSION:2.0
PRODID:-//wp-events-plugin.com//7.2.3.1//EN
TZID:America/Denver
X-WR-TIMEZONE:America/Denver
BEGIN:VEVENT
UID:1233@krystal93.com
DTSTART;TZID=America/Denver:20241122T180000
DTEND;TZID=America/Denver:20241122T210000
DTSTAMP:20241101T160005Z
URL:https://krystal93.com/events/highside-brewing-live-music-67/
SUMMARY:Highside Brewing Live Music
DESCRIPTION:Highside Brewing\nTuesdays: Bluegrass Tuesdays lead by Local Fo
 lk 6pm in FRISCO\nThursdays: Beau Thomas at FRISCO Location 7-9pm \nFrida
 y: Chief Complaint starts at 6pm in BRECK \nFriday: John Truscelli starts
  at 7pm in FRISCO \nHighside Brewing is a sponsor of Krystal Media’s Mu
 sic at the Summit\, our initiative to promote local musicians in Summit Co
 unty.
CATEGORIES:Highside Brewing
END:VEVENT
BEGIN:VTIMEZONE
TZID:America/Denver
X-LIC-LOCATION:America/Denver
BEGIN:STANDARD
DTSTART:20241103T010000
TZOFFSETFROM:-0600
TZOFFSETTO:-0700
TZNAME:MST
END:STANDARD
END:VTIMEZONE
END:VCALENDAR