BEGIN:VCALENDAR
VERSION:2.0
PRODID:-//wp-events-plugin.com//7.2.3.1//EN
TZID:America/Denver
X-WR-TIMEZONE:America/Denver
BEGIN:VEVENT
UID:1905@krystal93.com
DTSTART;TZID=America/Denver:20260404T190000
DTEND;TZID=America/Denver:20260404T220000
DTSTAMP:20260329T141234Z
URL:https://krystal93.com/events/highside-brewing-live-music-81/
SUMMARY:Highside Brewing - Live Music
DESCRIPTION:Saturday April 4\n        Vinacious Diesel\n 
        7-10\n        Frisco\n     
    Tenacious D cover band featuring Nick Baum and Justin Neely from 
 Eminence Ensemble\n
CATEGORIES:Highside Brewing
END:VEVENT
BEGIN:VTIMEZONE
TZID:America/Denver
X-LIC-LOCATION:America/Denver
BEGIN:DAYLIGHT
DTSTART:20260308T030000
TZOFFSETFROM:-0700
TZOFFSETTO:-0600
TZNAME:MDT
END:DAYLIGHT
END:VTIMEZONE
END:VCALENDAR