BEGIN:VCALENDAR
VERSION:2.0
PRODID:-//wp-events-plugin.com//7.2.3.1//EN
TZID:America/Denver
X-WR-TIMEZONE:America/Denver
BEGIN:VEVENT
UID:907@krystal93.com
DTSTART;TZID=America/Denver:20240302T180000
DTEND;TZID=America/Denver:20240302T210000
DTSTAMP:20240301T035740Z
URL:https://krystal93.com/events/highside-chief-complaint/
SUMMARY:Highside - Chief Complaint
DESCRIPTION:Highside Brewing \nSaturday: Chief Complaint at 6pm (BRECK TAP
  ROOM)\nHighside Brewing is a sponsor of Krystal Media’s Music at the Su
 mmit\, our initiative to promote local musicians in Summit County.  
CATEGORIES:Highside Brewing
END:VEVENT
BEGIN:VTIMEZONE
TZID:America/Denver
X-LIC-LOCATION:America/Denver
BEGIN:STANDARD
DTSTART:20231105T010000
TZOFFSETFROM:-0600
TZOFFSETTO:-0700
TZNAME:MST
END:STANDARD
END:VTIMEZONE
END:VCALENDAR