BEGIN:VCALENDAR
VERSION:2.0
PRODID:-//wp-events-plugin.com//7.2.3.1//EN
TZID:America/Denver
X-WR-TIMEZONE:America/Denver
BEGIN:VEVENT
UID:423@krystal93.com
DTSTART;TZID=America/Denver:20230205T160000
DTEND;TZID=America/Denver:20230205T190000
DTSTAMP:20230127T032026Z
URL:https://krystal93.com/events/highside-john-truscelli/
SUMMARY:Highside - John Truscelli
DESCRIPTION:HIGHSIDE BREWING IN FRISCO \n\nWHAT: LIVE MUSIC WITH John Trus
 celli \n\nWHEN: SUNDAYS 4-7pm \n\nWHERE: Highside Brewing in FRISCO \n\
 nDetails: Highside Brewing supports Music at the Summit – our initiative
  to promote live local music – brought to you by Mountain Comfort Furnis
 hings. 
CATEGORIES:Highside Brewing
END:VEVENT
BEGIN:VTIMEZONE
TZID:America/Denver
X-LIC-LOCATION:America/Denver
BEGIN:STANDARD
DTSTART:20221106T010000
TZOFFSETFROM:-0600
TZOFFSETTO:-0700
TZNAME:MST
END:STANDARD
END:VTIMEZONE
END:VCALENDAR