BEGIN:VCALENDAR
VERSION:2.0
PRODID:-//wp-events-plugin.com//7.2.3.1//EN
TZID:America/Denver
X-WR-TIMEZONE:America/Denver
BEGIN:VEVENT
UID:486@krystal93.com
DTSTART;TZID=America/Denver:20230317T183000
DTEND;TZID=America/Denver:20230317T213000
DTSTAMP:20230228T171311Z
URL:https://krystal93.com/events/hype-movie-night-12-18-2/
SUMMARY:Hype Movie Night (12-18)
DESCRIPTION: HYPE MOVIE NIGHT AGES 12-18  \n\nIn collaboration with YESS\
 , enjoy a free day at the movies with your friends! We’re renting out a 
 theater and you get to watch a movie with your friends in a friendly envir
 onment. The movie starts at 6:30 pm and snacks will be provided! Presented
  Free of Charge by our Generous Sponsors for Summit County Residents Only.
  Event Facilitated in English. www.buildinghopesummit.org/events \n\nTime
 : 6:30-9:30pm Location: Dillon 
CATEGORIES:Building Hope Summit County
END:VEVENT
BEGIN:VTIMEZONE
TZID:America/Denver
X-LIC-LOCATION:America/Denver
BEGIN:DAYLIGHT
DTSTART:20230312T030000
TZOFFSETFROM:-0700
TZOFFSETTO:-0600
TZNAME:MDT
END:DAYLIGHT
END:VTIMEZONE
END:VCALENDAR