BEGIN:VCALENDAR
VERSION:2.0
PRODID:-//wp-events-plugin.com//7.2.3.1//EN
TZID:America/Denver
X-WR-TIMEZONE:America/Denver
BEGIN:VEVENT
UID:386@krystal93.com
DTSTART;TZID=America/Denver:20230118T161500
DTEND;TZID=America/Denver:20230118T173000
DTSTAMP:20230102T040034Z
URL:https://krystal93.com/events/ice-skating-12-18-2/
SUMMARY:Ice Skating (12-18)
DESCRIPTION:1/18 ICE SKATING AGES 12-18   \n\nEnjoy the biggest ice skatin
 g rink in Breck with your friends. Ice Skates will be provided. Open to Su
 mmit County Residents. Event Facilitated in English.  \n\nTime: 4:15-5:30
 pm Location: Breckenridge  
CATEGORIES:Building Hope Summit County
END:VEVENT
BEGIN:VTIMEZONE
TZID:America/Denver
X-LIC-LOCATION:America/Denver
BEGIN:STANDARD
DTSTART:20221106T010000
TZOFFSETFROM:-0600
TZOFFSETTO:-0700
TZNAME:MST
END:STANDARD
END:VTIMEZONE
END:VCALENDAR