BEGIN:VCALENDAR
VERSION:2.0
PRODID:-//wp-events-plugin.com//7.2.3.1//EN
TZID:America/Denver
X-WR-TIMEZONE:America/Denver
BEGIN:VEVENT
UID:733@krystal93.com
DTSTART;TZID=America/Denver:20231015T103000
DTEND;TZID=America/Denver:20231015T120000
DTSTAMP:20231002T150410Z
URL:https://krystal93.com/events/indoor-rock-climbing-12-18-2/
SUMMARY:Indoor Rock Climbing (12-18)
DESCRIPTION:INDOOR ROCK CLIMBING AT BRECKENRIDGE REC CENTER - AGES 12-18 S
 pend the day on the climbing wall with your friends at Breckenridge Rec Ce
 nter. Participation limited to ages 12-18. \n\nTime: 10:30am-12pm Location
 : Breckenridge  \n\nGo to buildinghopesummit.org for more details.
CATEGORIES:Building Hope Summit County
END:VEVENT
BEGIN:VTIMEZONE
TZID:America/Denver
X-LIC-LOCATION:America/Denver
BEGIN:DAYLIGHT
DTSTART:20230312T030000
TZOFFSETFROM:-0700
TZOFFSETTO:-0600
TZNAME:MDT
END:DAYLIGHT
END:VTIMEZONE
END:VCALENDAR