BEGIN:VCALENDAR
VERSION:2.0
PRODID:-//wp-events-plugin.com//7.2.3.1//EN
TZID:America/Denver
X-WR-TIMEZONE:America/Denver
BEGIN:VEVENT
UID:1164@krystal93.com
DTSTART;TZID=America/Denver:20240917T173000
DTEND;TZID=America/Denver:20240917T193000
DTSTAMP:20240829T221618Z
URL:https://krystal93.com/events/indoor-rock-climbing-12-18-3/
SUMMARY:Indoor Rock Climbing (12-18)
DESCRIPTION:TUESDAY\, SEPTEMBER 17\n5:30-7:30 pm\nINDOOR ROCK CLIMBING\nBre
 ckenridge\nJoin the HYPE and get on the wall with your\nfriends! All level
 s are welcome. Ages 12-18.\nEvent Facilitated in English\nGo to buildingho
 pesummit.org for more info and to sign up.
CATEGORIES:Building Hope Summit County
END:VEVENT
BEGIN:VTIMEZONE
TZID:America/Denver
X-LIC-LOCATION:America/Denver
BEGIN:DAYLIGHT
DTSTART:20240310T030000
TZOFFSETFROM:-0700
TZOFFSETTO:-0600
TZNAME:MDT
END:DAYLIGHT
END:VTIMEZONE
END:VCALENDAR