BEGIN:VCALENDAR
VERSION:2.0
PRODID:-//wp-events-plugin.com//7.2.3.1//EN
TZID:America/Denver
X-WR-TIMEZONE:America/Denver
BEGIN:VEVENT
UID:1744@krystal93.com
DTSTART;TZID=America/Denver:20251114T173000
DTEND;TZID=America/Denver:20251114T193000
DTSTAMP:20251103T091306Z
URL:https://krystal93.com/events/indoor-rock-climbing-12-18-4/
SUMMARY:Indoor Rock Climbing 12-18
DESCRIPTION:FRIDAY\, NOVEMBER 14\, 2025\n\nIndoor Rock Climbing at the Rec 
 Center | Ages 12-18\n\n5:30 pm - 7:30 pm / Breckenridge\n\nJoin the HYPE f
 or some indoor rock climbing\, and get on the climbing wall with your frie
 nds! This event is intended for Summit County
CATEGORIES:Building Hope Summit County
END:VEVENT
BEGIN:VTIMEZONE
TZID:America/Denver
X-LIC-LOCATION:America/Denver
BEGIN:STANDARD
DTSTART:20251102T010000
TZOFFSETFROM:-0600
TZOFFSETTO:-0700
TZNAME:MST
END:STANDARD
END:VTIMEZONE
END:VCALENDAR