BEGIN:VCALENDAR
VERSION:2.0
PRODID:-//wp-events-plugin.com//7.2.3.1//EN
TZID:America/Denver
X-WR-TIMEZONE:America/Denver
BEGIN:VEVENT
UID:689@krystal93.com
DTSTART;TZID=America/Denver:20230826T103000
DTEND;TZID=America/Denver:20230826T123000
DTSTAMP:20230801T012213Z
URL:https://krystal93.com/events/indoor-rock-climbing-12-18/
SUMMARY:Indoor Rock Climbing (12-18)
DESCRIPTION:\n\n\n\n\n\n\n\n\n\nINDOOR ROCK CLIMBING AT BRECKENRIDGE REC CE
 NTER AGES 12-18\n\nSpend the day on the climbing wall with your friends at
  Breckenridge Rec Center. Participation limited to ages 12-18. Facilitated
  in English.\n\nTime: 10:30am-12pm Location: Breckenridge\n\nGo to Buildin
 g Hope Summit County for more information.\n\n\n\n\n\n\n\n\n\n
CATEGORIES:Building Hope Summit County
END:VEVENT
BEGIN:VTIMEZONE
TZID:America/Denver
X-LIC-LOCATION:America/Denver
BEGIN:DAYLIGHT
DTSTART:20230312T030000
TZOFFSETFROM:-0700
TZOFFSETTO:-0600
TZNAME:MDT
END:DAYLIGHT
END:VTIMEZONE
END:VCALENDAR