BEGIN:VCALENDAR
VERSION:2.0
PRODID:-//wp-events-plugin.com//7.2.3.1//EN
TZID:America/Denver
X-WR-TIMEZONE:America/Denver
BEGIN:VEVENT
UID:1815@krystal93.com
DTSTART;TZID=America/Denver:20260217T190000
DTEND;TZID=America/Denver:20260217T203000
DTSTAMP:20260203T031107Z
URL:https://krystal93.com/events/inner-coherence-breath-sound/
SUMMARY:Inner Coherence - Breath & Sound
DESCRIPTION:TUESDAY\, FEBRUARY 17\, 2026\nInner Coherence: Breath &amp\; So
 und (Bilingual)\n7:00 pm - 8:30 pm / Frisco\nJoin us for a transformative 
 evening combining breathwork and sound healing to release stress\, anxiety
 \, and stored emotions.\nThis event is intended for Summit County resident
 s only.\nEvent Facilitated in English and Spanish.\nGo to buildinghopesumm
 it.org to sign up and for more details.
CATEGORIES:Building Hope Summit County
END:VEVENT
BEGIN:VTIMEZONE
TZID:America/Denver
X-LIC-LOCATION:America/Denver
BEGIN:STANDARD
DTSTART:20251102T010000
TZOFFSETFROM:-0600
TZOFFSETTO:-0700
TZNAME:MST
END:STANDARD
END:VTIMEZONE
END:VCALENDAR