BEGIN:VCALENDAR
VERSION:2.0
PRODID:-//wp-events-plugin.com//7.2.3.1//EN
TZID:America/Denver
X-WR-TIMEZONE:America/Denver
BEGIN:VEVENT
UID:1486@krystal93.com
DTSTART;TZID=America/Denver:20250529T190000
DTEND;TZID=America/Denver:20250529T203000
DTSTAMP:20250501T232743Z
URL:https://krystal93.com/events/inner-wellness-path/
SUMMARY:Inner Wellness Path
DESCRIPTION:THURSDAY\, MAY 29\, 2025 THE INNER WELLNESS PATH: MENTAL &amp\;
  EMOTIONAL HEALING \n\n7:00 pm - 8:30 pm / Frisco \n\nA transformative jou
 rney to reconnect with your mind and reclaim the most powerful version of 
 you. Explore the terrain of your thoughts and emotions. Learn how to relea
 se what no longer serves you and cultivate a calm\, clear mind. All childr
 en 12 and under must be accompanied by an adult. This event is intended fo
 r Summit County residents only Event Facilitated in English and Spanish. G
 o to buildinghopesummit.org for more details and to sign up. Krystal Media
  Supports the Summit.
CATEGORIES:Building Hope Summit County
END:VEVENT
BEGIN:VTIMEZONE
TZID:America/Denver
X-LIC-LOCATION:America/Denver
BEGIN:DAYLIGHT
DTSTART:20250309T030000
TZOFFSETFROM:-0700
TZOFFSETTO:-0600
TZNAME:MDT
END:DAYLIGHT
END:VTIMEZONE
END:VCALENDAR