BEGIN:VCALENDAR
VERSION:2.0
PRODID:-//wp-events-plugin.com//7.2.3.1//EN
TZID:America/Denver
X-WR-TIMEZONE:America/Denver
BEGIN:VEVENT
UID:1484@krystal93.com
DTSTART;TZID=America/Denver:20250515T180000
DTEND;TZID=America/Denver:20250515T193000
DTSTAMP:20250501T232558Z
URL:https://krystal93.com/events/insanity-fitness-training-nutrition/
SUMMARY:Insanity Fitness Training & Nutrition
DESCRIPTION:THURSDAY\, MAY 15\, 2025. INSANITY FITNESS TRAINING &amp\; NUTR
 ITION \n\n6:00 pm - 7:30 pm / Frisco \n\nJoin us to learn about a healthy 
 life! Exercising and eating healthy help with both physical and mental hea
 lth. Event Facilitated in English and Spanish. Go to buildinghopesummit.or
 g for more details and to sign up. Krystal Media Supports the Summit.
CATEGORIES:Building Hope Summit County
END:VEVENT
BEGIN:VTIMEZONE
TZID:America/Denver
X-LIC-LOCATION:America/Denver
BEGIN:DAYLIGHT
DTSTART:20250309T030000
TZOFFSETFROM:-0700
TZOFFSETTO:-0600
TZNAME:MDT
END:DAYLIGHT
END:VTIMEZONE
END:VCALENDAR