BEGIN:VCALENDAR
VERSION:2.0
PRODID:-//wp-events-plugin.com//7.2.3.1//EN
TZID:America/Denver
X-WR-TIMEZONE:America/Denver
BEGIN:VEVENT
UID:392@krystal93.com
DTSTART;TZID=America/Denver:20230130T180000
DTEND;TZID=America/Denver:20230130T193000
DTSTAMP:20230102T040853Z
URL:https://krystal93.com/events/insanitylive-fitness-and-nutrition/
SUMMARY:Insanitylive Fitness and Nutrition
DESCRIPTION:1/30 INSANITYLIVE FITNESS AND NUTRITION   \n\nExercise and hea
 lthy eating support both physical and mental health. Join us for a 45-minu
 te High Intensity Interval Bodyweight Training (HIIT) routine called Insan
 ityLive. Afterwards\, we will talk about nutrition tips that can support m
 ental and physical well-being. Facilitated in English and Spanish.   \n\n
 Time: 6-7:30pm Location: Frisco  
CATEGORIES:Building Hope Summit County
END:VEVENT
BEGIN:VTIMEZONE
TZID:America/Denver
X-LIC-LOCATION:America/Denver
BEGIN:STANDARD
DTSTART:20221106T010000
TZOFFSETFROM:-0600
TZOFFSETTO:-0700
TZNAME:MST
END:STANDARD
END:VTIMEZONE
END:VCALENDAR