BEGIN:VCALENDAR
VERSION:2.0
PRODID:-//wp-events-plugin.com//7.2.3.1//EN
TZID:America/Denver
X-WR-TIMEZONE:America/Denver
BEGIN:VEVENT
UID:1813@krystal93.com
DTSTART;TZID=America/Denver:20260214T100000
DTEND;TZID=America/Denver:20260214T120000
DTSTAMP:20260203T030853Z
URL:https://krystal93.com/events/japanese-paper-lanterns-12-18/
SUMMARY:Japanese Paper Lanterns (12-18)
DESCRIPTION:SATURDAY\, FEBRUARY 14\, 2026\nJapanese Paper Lantern Decoupage
 \nWorkshop | Ages 12-18 (Bilingual)\n10:00 am - 12:00 pm / Silverthorne\nJ
 oin Building Hope and the Simple Art Studio to make a Japanese Paper Lante
 rn Decoupage Workshop. Transform your space with a touch of personalized e
 legance in our art class.\nThis event is intended for Summit County reside
 nts only. Ages 12-18.\nEvent Facilitated in English and Spanish.\nGo to bu
 ildinghopesummit.org to sign up and for more details.
CATEGORIES:Building Hope Summit County
END:VEVENT
BEGIN:VTIMEZONE
TZID:America/Denver
X-LIC-LOCATION:America/Denver
BEGIN:STANDARD
DTSTART:20251102T010000
TZOFFSETFROM:-0600
TZOFFSETTO:-0700
TZNAME:MST
END:STANDARD
END:VTIMEZONE
END:VCALENDAR