BEGIN:VCALENDAR
VERSION:2.0
PRODID:-//wp-events-plugin.com//7.2.3.1//EN
TZID:America/Denver
X-WR-TIMEZONE:America/Denver
BEGIN:VEVENT
UID:1031@krystal93.com
DTSTART;TZID=America/Denver:20240712T190000
DTEND;TZID=America/Denver:20240712T220000
DTSTAMP:20240602T183405Z
URL:https://krystal93.com/events/jason-isbell-the-400-unit-dillon-amp/
SUMMARY:Jason Isbell & The 400 Unit - Dillon Amp
DESCRIPTION:Jason Isbell and the 400 Unit\nwith special guest Adeem the Art
 ist\n\n 	Date:07/12/2024 6:30 PM - 10:00 PM\n 	Location:Dillon Amphitheate
 r\n135 W. Lodgepole Street\nDillon\, Colorado 80435\n 	Introduction:Sold
  out! Waitlist\n
CATEGORIES:Dillon Amphitheater
END:VEVENT
BEGIN:VTIMEZONE
TZID:America/Denver
X-LIC-LOCATION:America/Denver
BEGIN:DAYLIGHT
DTSTART:20240310T030000
TZOFFSETFROM:-0700
TZOFFSETTO:-0600
TZNAME:MDT
END:DAYLIGHT
END:VTIMEZONE
END:VCALENDAR