BEGIN:VCALENDAR
VERSION:2.0
PRODID:-//wp-events-plugin.com//7.2.3.1//EN
TZID:America/Denver
X-WR-TIMEZONE:America/Denver
BEGIN:VEVENT
UID:617@krystal93.com
DTSTART;TZID=America/Denver:20230614T180000
DTEND;TZID=America/Denver:20230614T193000
DTSTAMP:20230601T020908Z
URL:https://krystal93.com/events/jiu-jitsu-12-18-2/
SUMMARY:Sound Healing
DESCRIPTION:SOUND HEALING \n\nLet the waves of sound wash over you. Join us
  in this relaxing and meditative Sound Bath experience. Facilitated in Eng
 lish. \n\nTime: 6-7:30pm \n\nLocation: Silverthorne \n\nGo to Building Hop
 e Summit County for more information.  
CATEGORIES:Building Hope Summit County
END:VEVENT
BEGIN:VTIMEZONE
TZID:America/Denver
X-LIC-LOCATION:America/Denver
BEGIN:DAYLIGHT
DTSTART:20230312T030000
TZOFFSETFROM:-0700
TZOFFSETTO:-0600
TZNAME:MDT
END:DAYLIGHT
END:VTIMEZONE
END:VCALENDAR