BEGIN:VCALENDAR
VERSION:2.0
PRODID:-//wp-events-plugin.com//7.2.3.1//EN
TZID:America/Denver
X-WR-TIMEZONE:America/Denver
BEGIN:VEVENT
UID:718@krystal93.com
DTSTART;TZID=America/Denver:20230902T193000
DTEND;TZID=America/Denver:20230902T223000
DTSTAMP:20230831T042253Z
URL:https://krystal93.com/events/john-denver-music/
SUMMARY:John Denver Music
DESCRIPTION:You're invited to celebrate Colorado’s high country through t
 he music of John Denver with the John Adams band and the award-winning pho
 tography of John Fielder\, Saturday September 2 at the Riverwalk Center in
  Breckenridge. This celebration will benefit Peace Alights Initiatives who
 se mission is to help communities create respite opportunities for familie
 s going through difficult medical times. Get tickets at breckcreate.org. 
  
END:VEVENT
BEGIN:VTIMEZONE
TZID:America/Denver
X-LIC-LOCATION:America/Denver
BEGIN:DAYLIGHT
DTSTART:20230312T030000
TZOFFSETFROM:-0700
TZOFFSETTO:-0600
TZNAME:MDT
END:DAYLIGHT
END:VTIMEZONE
END:VCALENDAR